BEGIN:VCALENDAR
VERSION:2.0
PRODID:-//TeamWinkens - ECPv6.15.20//NONSGML v1.0//EN
CALSCALE:GREGORIAN
METHOD:PUBLISH
X-WR-CALNAME:TeamWinkens
X-ORIGINAL-URL:https://www.teamwinkens.de
X-WR-CALDESC:Veranstaltungen für TeamWinkens
REFRESH-INTERVAL;VALUE=DURATION:PT1H
X-Robots-Tag:noindex
X-PUBLISHED-TTL:PT1H
BEGIN:VTIMEZONE
TZID:Europe/Berlin
BEGIN:DAYLIGHT
TZOFFSETFROM:+0100
TZOFFSETTO:+0200
TZNAME:CEST
DTSTART:20240331T010000
END:DAYLIGHT
BEGIN:STANDARD
TZOFFSETFROM:+0200
TZOFFSETTO:+0100
TZNAME:CET
DTSTART:20241027T010000
END:STANDARD
BEGIN:DAYLIGHT
TZOFFSETFROM:+0100
TZOFFSETTO:+0200
TZNAME:CEST
DTSTART:20250330T010000
END:DAYLIGHT
BEGIN:STANDARD
TZOFFSETFROM:+0200
TZOFFSETTO:+0100
TZNAME:CET
DTSTART:20251026T010000
END:STANDARD
BEGIN:DAYLIGHT
TZOFFSETFROM:+0100
TZOFFSETTO:+0200
TZNAME:CEST
DTSTART:20260329T010000
END:DAYLIGHT
BEGIN:STANDARD
TZOFFSETFROM:+0200
TZOFFSETTO:+0100
TZNAME:CET
DTSTART:20261025T010000
END:STANDARD
END:VTIMEZONE
BEGIN:VEVENT
DTSTART;TZID=Europe/Berlin:20251217T183000
DTEND;TZID=Europe/Berlin:20251217T200000
DTSTAMP:20260424T213354
CREATED:20250822T072502Z
LAST-MODIFIED:20250822T072502Z
UID:929-1765996200-1766001600@www.teamwinkens.de
SUMMARY:Grundstoff 11
DESCRIPTION:
URL:https://www.teamwinkens.de/termin/grundstoff-11-12/
LOCATION:Alsdorf\, Blumenratherstr. 50\, Alsdorf\, Nordrhein-Westfalen\, 52477\, Germany
CATEGORIES:Alsdorf
END:VEVENT
END:VCALENDAR