BEGIN:VCALENDAR
VERSION:2.0
PRODID:-//TeamWinkens - ECPv6.15.20//NONSGML v1.0//EN
CALSCALE:GREGORIAN
METHOD:PUBLISH
X-ORIGINAL-URL:https://www.teamwinkens.de
X-WR-CALDESC:Veranstaltungen für TeamWinkens
REFRESH-INTERVAL;VALUE=DURATION:PT1H
X-Robots-Tag:noindex
X-PUBLISHED-TTL:PT1H
BEGIN:VTIMEZONE
TZID:Europe/Berlin
BEGIN:DAYLIGHT
TZOFFSETFROM:+0100
TZOFFSETTO:+0200
TZNAME:CEST
DTSTART:20240331T010000
END:DAYLIGHT
BEGIN:STANDARD
TZOFFSETFROM:+0200
TZOFFSETTO:+0100
TZNAME:CET
DTSTART:20241027T010000
END:STANDARD
BEGIN:DAYLIGHT
TZOFFSETFROM:+0100
TZOFFSETTO:+0200
TZNAME:CEST
DTSTART:20250330T010000
END:DAYLIGHT
BEGIN:STANDARD
TZOFFSETFROM:+0200
TZOFFSETTO:+0100
TZNAME:CET
DTSTART:20251026T010000
END:STANDARD
BEGIN:DAYLIGHT
TZOFFSETFROM:+0100
TZOFFSETTO:+0200
TZNAME:CEST
DTSTART:20260329T010000
END:DAYLIGHT
BEGIN:STANDARD
TZOFFSETFROM:+0200
TZOFFSETTO:+0100
TZNAME:CET
DTSTART:20261025T010000
END:STANDARD
END:VTIMEZONE
BEGIN:VEVENT
DTSTART;TZID=Europe/Berlin:20251208T183000
DTEND;TZID=Europe/Berlin:20251208T200000
DTSTAMP:20260424T231843
CREATED:20250822T071557Z
LAST-MODIFIED:20250822T071557Z
UID:10000159-1765218600-1765224000@www.teamwinkens.de
SUMMARY:Grundstoff 6
DESCRIPTION:
URL:https://www.teamwinkens.de/termin/grundstoff-6-12/
LOCATION:Bardenberg\, Dorfstraße 1\, Würselen\, Nordrhein-Westfalen\, 52146\, Germany
CATEGORIES:Bardenberg
END:VEVENT
BEGIN:VEVENT
DTSTART;TZID=Europe/Berlin:20251208T190000
DTEND;TZID=Europe/Berlin:20251208T203000
DTSTAMP:20260424T231843
CREATED:20250822T071631Z
LAST-MODIFIED:20250822T071631Z
UID:10000160-1765220400-1765225800@www.teamwinkens.de
SUMMARY:Grundstoff 5
DESCRIPTION:
URL:https://www.teamwinkens.de/termin/grundstoff-5-12/
LOCATION:Aachen\, Franzstraße 5\, Aachen\, Nordrhein-Westfalen\, 52064\, Germany
CATEGORIES:Aachen
END:VEVENT
END:VCALENDAR