BEGIN:VCALENDAR
VERSION:2.0
PRODID:-//TeamWinkens - ECPv6.15.20//NONSGML v1.0//EN
CALSCALE:GREGORIAN
METHOD:PUBLISH
X-ORIGINAL-URL:https://www.teamwinkens.de
X-WR-CALDESC:Veranstaltungen für TeamWinkens
REFRESH-INTERVAL;VALUE=DURATION:PT1H
X-Robots-Tag:noindex
X-PUBLISHED-TTL:PT1H
BEGIN:VTIMEZONE
TZID:Europe/Berlin
BEGIN:DAYLIGHT
TZOFFSETFROM:+0100
TZOFFSETTO:+0200
TZNAME:CEST
DTSTART:20240331T010000
END:DAYLIGHT
BEGIN:STANDARD
TZOFFSETFROM:+0200
TZOFFSETTO:+0100
TZNAME:CET
DTSTART:20241027T010000
END:STANDARD
BEGIN:DAYLIGHT
TZOFFSETFROM:+0100
TZOFFSETTO:+0200
TZNAME:CEST
DTSTART:20250330T010000
END:DAYLIGHT
BEGIN:STANDARD
TZOFFSETFROM:+0200
TZOFFSETTO:+0100
TZNAME:CET
DTSTART:20251026T010000
END:STANDARD
BEGIN:DAYLIGHT
TZOFFSETFROM:+0100
TZOFFSETTO:+0200
TZNAME:CEST
DTSTART:20260329T010000
END:DAYLIGHT
BEGIN:STANDARD
TZOFFSETFROM:+0200
TZOFFSETTO:+0100
TZNAME:CET
DTSTART:20261025T010000
END:STANDARD
END:VTIMEZONE
BEGIN:VEVENT
DTSTART;TZID=Europe/Berlin:20251209T190000
DTEND;TZID=Europe/Berlin:20251209T203000
DTSTAMP:20260425T004841
CREATED:20250822T071711Z
LAST-MODIFIED:20250822T071711Z
UID:10000161-1765306800-1765312200@www.teamwinkens.de
SUMMARY:Grundstoff 9
DESCRIPTION:
URL:https://www.teamwinkens.de/termin/grundstoff-9-11/
LOCATION:Würselen\, Aachenerstr. 9\, Würselen\, Nordrhein-Westfalen\, 52146\, Germany
CATEGORIES:Würselen
END:VEVENT
BEGIN:VEVENT
DTSTART;TZID=Europe/Berlin:20251209T190000
DTEND;TZID=Europe/Berlin:20251209T203000
DTSTAMP:20260425T004841
CREATED:20250822T071748Z
LAST-MODIFIED:20250822T071748Z
UID:10000162-1765306800-1765312200@www.teamwinkens.de
SUMMARY:Technik 2
DESCRIPTION:
URL:https://www.teamwinkens.de/termin/technik-2-12/
LOCATION:Hoengen\, Jülicherstr. 198\, Alsdorf\, Nordrhein-Westfalen\, 52477\, Germany
CATEGORIES:Hoengen
END:VEVENT
END:VCALENDAR