BEGIN:VCALENDAR
VERSION:2.0
PRODID:-//TeamWinkens - ECPv6.15.20//NONSGML v1.0//EN
CALSCALE:GREGORIAN
METHOD:PUBLISH
X-ORIGINAL-URL:https://www.teamwinkens.de
X-WR-CALDESC:Veranstaltungen für TeamWinkens
REFRESH-INTERVAL;VALUE=DURATION:PT1H
X-Robots-Tag:noindex
X-PUBLISHED-TTL:PT1H
BEGIN:VTIMEZONE
TZID:Europe/Berlin
BEGIN:DAYLIGHT
TZOFFSETFROM:+0100
TZOFFSETTO:+0200
TZNAME:CEST
DTSTART:20250330T010000
END:DAYLIGHT
BEGIN:STANDARD
TZOFFSETFROM:+0200
TZOFFSETTO:+0100
TZNAME:CET
DTSTART:20251026T010000
END:STANDARD
BEGIN:DAYLIGHT
TZOFFSETFROM:+0100
TZOFFSETTO:+0200
TZNAME:CEST
DTSTART:20260329T010000
END:DAYLIGHT
BEGIN:STANDARD
TZOFFSETFROM:+0200
TZOFFSETTO:+0100
TZNAME:CET
DTSTART:20261025T010000
END:STANDARD
BEGIN:DAYLIGHT
TZOFFSETFROM:+0100
TZOFFSETTO:+0200
TZNAME:CEST
DTSTART:20270328T010000
END:DAYLIGHT
BEGIN:STANDARD
TZOFFSETFROM:+0200
TZOFFSETTO:+0100
TZNAME:CET
DTSTART:20271031T010000
END:STANDARD
END:VTIMEZONE
BEGIN:VEVENT
DTSTART;TZID=Europe/Berlin:20260309T183000
DTEND;TZID=Europe/Berlin:20260309T200000
DTSTAMP:20260424T174508
CREATED:20251216T082142Z
LAST-MODIFIED:20251216T082156Z
UID:10000267-1773081000-1773086400@www.teamwinkens.de
SUMMARY:Grundstoff 9
DESCRIPTION:
URL:https://www.teamwinkens.de/termin/grundstoff-9-21/
LOCATION:Bardenberg\, Dorfstraße 1\, Würselen\, Nordrhein-Westfalen\, 52146\, Germany
CATEGORIES:Bardenberg
END:VEVENT
BEGIN:VEVENT
DTSTART;TZID=Europe/Berlin:20260309T190000
DTEND;TZID=Europe/Berlin:20260309T203000
DTSTAMP:20260424T174508
CREATED:20251216T082236Z
LAST-MODIFIED:20251216T082316Z
UID:10000268-1773082800-1773088200@www.teamwinkens.de
SUMMARY:Grundstoff 2
DESCRIPTION:
URL:https://www.teamwinkens.de/termin/grundstoff-2-18/
LOCATION:Aachen\, Franzstraße 5\, Aachen\, Nordrhein-Westfalen\, 52064\, Germany
CATEGORIES:Aachen
END:VEVENT
END:VCALENDAR