BEGIN:VCALENDAR
VERSION:2.0
PRODID:-//TeamWinkens - ECPv6.15.20//NONSGML v1.0//EN
CALSCALE:GREGORIAN
METHOD:PUBLISH
X-ORIGINAL-URL:https://www.teamwinkens.de
X-WR-CALDESC:Veranstaltungen für TeamWinkens
REFRESH-INTERVAL;VALUE=DURATION:PT1H
X-Robots-Tag:noindex
X-PUBLISHED-TTL:PT1H
BEGIN:VTIMEZONE
TZID:Europe/Berlin
BEGIN:DAYLIGHT
TZOFFSETFROM:+0100
TZOFFSETTO:+0200
TZNAME:CEST
DTSTART:20250330T010000
END:DAYLIGHT
BEGIN:STANDARD
TZOFFSETFROM:+0200
TZOFFSETTO:+0100
TZNAME:CET
DTSTART:20251026T010000
END:STANDARD
BEGIN:DAYLIGHT
TZOFFSETFROM:+0100
TZOFFSETTO:+0200
TZNAME:CEST
DTSTART:20260329T010000
END:DAYLIGHT
BEGIN:STANDARD
TZOFFSETFROM:+0200
TZOFFSETTO:+0100
TZNAME:CET
DTSTART:20261025T010000
END:STANDARD
BEGIN:DAYLIGHT
TZOFFSETFROM:+0100
TZOFFSETTO:+0200
TZNAME:CEST
DTSTART:20270328T010000
END:DAYLIGHT
BEGIN:STANDARD
TZOFFSETFROM:+0200
TZOFFSETTO:+0100
TZNAME:CET
DTSTART:20271031T010000
END:STANDARD
END:VTIMEZONE
BEGIN:VEVENT
DTSTART;TZID=Europe/Berlin:20260402T190000
DTEND;TZID=Europe/Berlin:20260402T203000
DTSTAMP:20260424T155818
CREATED:20251216T104647Z
LAST-MODIFIED:20251216T104647Z
UID:10000300-1775156400-1775161800@www.teamwinkens.de
SUMMARY:Grundstoff 11
DESCRIPTION:
URL:https://www.teamwinkens.de/termin/grundstoff-11-20/
LOCATION:Würselen\, Aachenerstr. 9\, Würselen\, Nordrhein-Westfalen\, 52146\, Germany
CATEGORIES:Würselen
END:VEVENT
BEGIN:VEVENT
DTSTART;TZID=Europe/Berlin:20260402T190000
DTEND;TZID=Europe/Berlin:20260402T203000
DTSTAMP:20260424T155818
CREATED:20251216T104808Z
LAST-MODIFIED:20251216T104808Z
UID:10000301-1775156400-1775161800@www.teamwinkens.de
SUMMARY:Grundstoff 5
DESCRIPTION:
URL:https://www.teamwinkens.de/termin/grundstoff-5-20/
LOCATION:Hoengen\, Jülicherstr. 198\, Alsdorf\, Nordrhein-Westfalen\, 52477\, Germany
CATEGORIES:Hoengen
END:VEVENT
BEGIN:VEVENT
DTSTART;TZID=Europe/Berlin:20260402T190000
DTEND;TZID=Europe/Berlin:20260402T203000
DTSTAMP:20260424T155818
CREATED:20251216T104845Z
LAST-MODIFIED:20251216T104845Z
UID:10000302-1775156400-1775161800@www.teamwinkens.de
SUMMARY:Grundstoff 8
DESCRIPTION:
URL:https://www.teamwinkens.de/termin/grundstoff-8-23/
LOCATION:Aachen\, Franzstraße 5\, Aachen\, Nordrhein-Westfalen\, 52064\, Germany
CATEGORIES:Aachen
END:VEVENT
END:VCALENDAR