BEGIN:VCALENDAR
VERSION:2.0
PRODID:-//TeamWinkens - ECPv6.15.20//NONSGML v1.0//EN
CALSCALE:GREGORIAN
METHOD:PUBLISH
X-ORIGINAL-URL:https://www.teamwinkens.de
X-WR-CALDESC:Veranstaltungen für TeamWinkens
REFRESH-INTERVAL;VALUE=DURATION:PT1H
X-Robots-Tag:noindex
X-PUBLISHED-TTL:PT1H
BEGIN:VTIMEZONE
TZID:Europe/Berlin
BEGIN:DAYLIGHT
TZOFFSETFROM:+0100
TZOFFSETTO:+0200
TZNAME:CEST
DTSTART:20250330T010000
END:DAYLIGHT
BEGIN:STANDARD
TZOFFSETFROM:+0200
TZOFFSETTO:+0100
TZNAME:CET
DTSTART:20251026T010000
END:STANDARD
BEGIN:DAYLIGHT
TZOFFSETFROM:+0100
TZOFFSETTO:+0200
TZNAME:CEST
DTSTART:20260329T010000
END:DAYLIGHT
BEGIN:STANDARD
TZOFFSETFROM:+0200
TZOFFSETTO:+0100
TZNAME:CET
DTSTART:20261025T010000
END:STANDARD
BEGIN:DAYLIGHT
TZOFFSETFROM:+0100
TZOFFSETTO:+0200
TZNAME:CEST
DTSTART:20270328T010000
END:DAYLIGHT
BEGIN:STANDARD
TZOFFSETFROM:+0200
TZOFFSETTO:+0100
TZNAME:CET
DTSTART:20271031T010000
END:STANDARD
END:VTIMEZONE
BEGIN:VEVENT
DTSTART;TZID=Europe/Berlin:20260425T080000
DTEND;TZID=Europe/Berlin:20260425T110000
DTSTAMP:20260424T141130
CREATED:20260227T120458Z
LAST-MODIFIED:20260227T120458Z
UID:10000337-1777104000-1777114800@www.teamwinkens.de
SUMMARY:Motorrad Technik
DESCRIPTION:
URL:https://www.teamwinkens.de/termin/motorrad-technik-2/
LOCATION:Bardenberg\, Dorfstraße 1\, Würselen\, Nordrhein-Westfalen\, 52146\, Germany
CATEGORIES:Bardenberg
END:VEVENT
BEGIN:VEVENT
DTSTART;TZID=Europe/Berlin:20260427T183000
DTEND;TZID=Europe/Berlin:20260427T200000
DTSTAMP:20260424T141130
CREATED:20251216T123554Z
LAST-MODIFIED:20251216T123554Z
UID:10000330-1777314600-1777320000@www.teamwinkens.de
SUMMARY:Grundstoff 8
DESCRIPTION:
URL:https://www.teamwinkens.de/termin/grundstoff-8-25/
LOCATION:Bardenberg\, Dorfstraße 1\, Würselen\, Nordrhein-Westfalen\, 52146\, Germany
CATEGORIES:Bardenberg
END:VEVENT
BEGIN:VEVENT
DTSTART;TZID=Europe/Berlin:20260427T190000
DTEND;TZID=Europe/Berlin:20260427T203000
DTSTAMP:20260424T141130
CREATED:20251216T123631Z
LAST-MODIFIED:20251216T123631Z
UID:10000331-1777316400-1777321800@www.teamwinkens.de
SUMMARY:Technik 2
DESCRIPTION:
URL:https://www.teamwinkens.de/termin/technik-2-21/
LOCATION:Aachen\, Franzstraße 5\, Aachen\, Nordrhein-Westfalen\, 52064\, Germany
CATEGORIES:Aachen
END:VEVENT
BEGIN:VEVENT
DTSTART;TZID=Europe/Berlin:20260428T190000
DTEND;TZID=Europe/Berlin:20260428T203000
DTSTAMP:20260424T141130
CREATED:20251216T123715Z
LAST-MODIFIED:20251216T123715Z
UID:10000332-1777402800-1777408200@www.teamwinkens.de
SUMMARY:Grundstoff 3
DESCRIPTION:
URL:https://www.teamwinkens.de/termin/grundstoff-3-22/
LOCATION:Bardenberg\, Dorfstraße 1\, Würselen\, Nordrhein-Westfalen\, 52146\, Germany
CATEGORIES:Würselen
END:VEVENT
BEGIN:VEVENT
DTSTART;TZID=Europe/Berlin:20260520T180000
DTEND;TZID=Europe/Berlin:20260520T210000
DTSTAMP:20260424T141130
CREATED:20260227T120739Z
LAST-MODIFIED:20260227T120739Z
UID:10000338-1779300000-1779310800@www.teamwinkens.de
SUMMARY:Motorrad Technik
DESCRIPTION:
URL:https://www.teamwinkens.de/termin/motorrad-technik-3/
LOCATION:Hoengen\, Jülicherstr. 198\, Alsdorf\, Nordrhein-Westfalen\, 52477\, Germany
CATEGORIES:Hoengen
END:VEVENT
BEGIN:VEVENT
DTSTART;TZID=Europe/Berlin:20260530T080000
DTEND;TZID=Europe/Berlin:20260530T110000
DTSTAMP:20260424T141130
CREATED:20260227T120812Z
LAST-MODIFIED:20260227T120826Z
UID:10000339-1780128000-1780138800@www.teamwinkens.de
SUMMARY:Motorrad Technik
DESCRIPTION:
URL:https://www.teamwinkens.de/termin/motorrad-technik-4/
LOCATION:Bardenberg\, Dorfstraße 1\, Würselen\, Nordrhein-Westfalen\, 52146\, Germany
CATEGORIES:Bardenberg
END:VEVENT
BEGIN:VEVENT
DTSTART;TZID=Europe/Berlin:20260617T180000
DTEND;TZID=Europe/Berlin:20260617T210000
DTSTAMP:20260424T141130
CREATED:20260227T120855Z
LAST-MODIFIED:20260227T120855Z
UID:10000340-1781719200-1781730000@www.teamwinkens.de
SUMMARY:Motorrad Technik
DESCRIPTION:
URL:https://www.teamwinkens.de/termin/motorrad-technik-5/
LOCATION:Hoengen\, Jülicherstr. 198\, Alsdorf\, Nordrhein-Westfalen\, 52477\, Germany
CATEGORIES:Hoengen
END:VEVENT
BEGIN:VEVENT
DTSTART;TZID=Europe/Berlin:20260627T080000
DTEND;TZID=Europe/Berlin:20260627T110000
DTSTAMP:20260424T141130
CREATED:20260227T114422Z
LAST-MODIFIED:20260227T123801Z
UID:10000335-1782547200-1782558000@www.teamwinkens.de
SUMMARY:Motorrad Technik
DESCRIPTION:
URL:https://www.teamwinkens.de/termin/motorrad-technik-technik-block-12-2/
LOCATION:Bardenberg\, Dorfstraße 1\, Würselen\, Nordrhein-Westfalen\, 52146\, Germany
CATEGORIES:Bardenberg
END:VEVENT
BEGIN:VEVENT
DTSTART;TZID=Europe/Berlin:20260715T180000
DTEND;TZID=Europe/Berlin:20260715T210000
DTSTAMP:20260424T141130
CREATED:20260227T121004Z
LAST-MODIFIED:20260227T121004Z
UID:10000342-1784138400-1784149200@www.teamwinkens.de
SUMMARY:Motorrad Technik
DESCRIPTION:
URL:https://www.teamwinkens.de/termin/motorrad-technik-7/
LOCATION:Hoengen\, Jülicherstr. 198\, Alsdorf\, Nordrhein-Westfalen\, 52477\, Germany
CATEGORIES:Hoengen
END:VEVENT
BEGIN:VEVENT
DTSTART;TZID=Europe/Berlin:20260725T080000
DTEND;TZID=Europe/Berlin:20260725T110000
DTSTAMP:20260424T141130
CREATED:20260227T121031Z
LAST-MODIFIED:20260227T121031Z
UID:10000343-1784966400-1784977200@www.teamwinkens.de
SUMMARY:Motorrad Technik
DESCRIPTION:
URL:https://www.teamwinkens.de/termin/motorrad-technik-8/
LOCATION:Bardenberg\, Dorfstraße 1\, Würselen\, Nordrhein-Westfalen\, 52146\, Germany
CATEGORIES:Bardenberg
END:VEVENT
BEGIN:VEVENT
DTSTART;TZID=Europe/Berlin:20260819T180000
DTEND;TZID=Europe/Berlin:20260819T210000
DTSTAMP:20260424T141130
CREATED:20260227T121106Z
LAST-MODIFIED:20260227T121106Z
UID:10000344-1787162400-1787173200@www.teamwinkens.de
SUMMARY:Motorrad Technik
DESCRIPTION:
URL:https://www.teamwinkens.de/termin/motorrad-technik-9/
LOCATION:Hoengen\, Jülicherstr. 198\, Alsdorf\, Nordrhein-Westfalen\, 52477\, Germany
CATEGORIES:Hoengen
END:VEVENT
BEGIN:VEVENT
DTSTART;TZID=Europe/Berlin:20260829T080000
DTEND;TZID=Europe/Berlin:20260829T110000
DTSTAMP:20260424T141130
CREATED:20260227T121135Z
LAST-MODIFIED:20260227T121135Z
UID:10000345-1787990400-1788001200@www.teamwinkens.de
SUMMARY:Motorrad Technik
DESCRIPTION:
URL:https://www.teamwinkens.de/termin/motorrad-technik-10/
LOCATION:Bardenberg\, Dorfstraße 1\, Würselen\, Nordrhein-Westfalen\, 52146\, Germany
CATEGORIES:Bardenberg
END:VEVENT
BEGIN:VEVENT
DTSTART;TZID=Europe/Berlin:20260916T180000
DTEND;TZID=Europe/Berlin:20260916T210000
DTSTAMP:20260424T141130
CREATED:20260227T122029Z
LAST-MODIFIED:20260227T122029Z
UID:10000346-1789581600-1789592400@www.teamwinkens.de
SUMMARY:Motorrad Technik
DESCRIPTION:
URL:https://www.teamwinkens.de/termin/motorrad-technik-11/
LOCATION:Hoengen\, Jülicherstr. 198\, Alsdorf\, Nordrhein-Westfalen\, 52477\, Germany
CATEGORIES:Hoengen
END:VEVENT
BEGIN:VEVENT
DTSTART;TZID=Europe/Berlin:20260926T080000
DTEND;TZID=Europe/Berlin:20260926T110000
DTSTAMP:20260424T141130
CREATED:20260227T122129Z
LAST-MODIFIED:20260227T122129Z
UID:10000347-1790409600-1790420400@www.teamwinkens.de
SUMMARY:Motorrad Technik
DESCRIPTION:
URL:https://www.teamwinkens.de/termin/motorrad-technik-12/
LOCATION:Bardenberg\, Dorfstraße 1\, Würselen\, Nordrhein-Westfalen\, 52146\, Germany
CATEGORIES:Bardenberg
END:VEVENT
BEGIN:VEVENT
DTSTART;TZID=Europe/Berlin:20261021T180000
DTEND;TZID=Europe/Berlin:20261021T210000
DTSTAMP:20260424T141130
CREATED:20260227T122229Z
LAST-MODIFIED:20260227T122229Z
UID:10000348-1792605600-1792616400@www.teamwinkens.de
SUMMARY:Motorrad Technik
DESCRIPTION:
URL:https://www.teamwinkens.de/termin/motorrad-technik-13/
LOCATION:Hoengen\, Jülicherstr. 198\, Alsdorf\, Nordrhein-Westfalen\, 52477\, Germany
CATEGORIES:Hoengen
END:VEVENT
BEGIN:VEVENT
DTSTART;TZID=Europe/Berlin:20261031T080000
DTEND;TZID=Europe/Berlin:20261031T110000
DTSTAMP:20260424T141130
CREATED:20260227T122255Z
LAST-MODIFIED:20260227T122255Z
UID:10000349-1793433600-1793444400@www.teamwinkens.de
SUMMARY:Motorrad Technik
DESCRIPTION:
URL:https://www.teamwinkens.de/termin/motorrad-technik-14/
LOCATION:Bardenberg\, Dorfstraße 1\, Würselen\, Nordrhein-Westfalen\, 52146\, Germany
CATEGORIES:Bardenberg
END:VEVENT
END:VCALENDAR