BEGIN:VCALENDAR
VERSION:2.0
PRODID:-//TeamWinkens - ECPv6.15.20//NONSGML v1.0//EN
CALSCALE:GREGORIAN
METHOD:PUBLISH
X-ORIGINAL-URL:https://www.teamwinkens.de
X-WR-CALDESC:Veranstaltungen für TeamWinkens
REFRESH-INTERVAL;VALUE=DURATION:PT1H
X-Robots-Tag:noindex
X-PUBLISHED-TTL:PT1H
BEGIN:VTIMEZONE
TZID:Europe/Berlin
BEGIN:DAYLIGHT
TZOFFSETFROM:+0100
TZOFFSETTO:+0200
TZNAME:CEST
DTSTART:20250330T010000
END:DAYLIGHT
BEGIN:STANDARD
TZOFFSETFROM:+0200
TZOFFSETTO:+0100
TZNAME:CET
DTSTART:20251026T010000
END:STANDARD
BEGIN:DAYLIGHT
TZOFFSETFROM:+0100
TZOFFSETTO:+0200
TZNAME:CEST
DTSTART:20260329T010000
END:DAYLIGHT
BEGIN:STANDARD
TZOFFSETFROM:+0200
TZOFFSETTO:+0100
TZNAME:CET
DTSTART:20261025T010000
END:STANDARD
BEGIN:DAYLIGHT
TZOFFSETFROM:+0100
TZOFFSETTO:+0200
TZNAME:CEST
DTSTART:20270328T010000
END:DAYLIGHT
BEGIN:STANDARD
TZOFFSETFROM:+0200
TZOFFSETTO:+0100
TZNAME:CET
DTSTART:20271031T010000
END:STANDARD
END:VTIMEZONE
BEGIN:VEVENT
DTSTART;TZID=Europe/Berlin:20260202T183000
DTEND;TZID=Europe/Berlin:20260202T200000
DTSTAMP:20260424T175032
CREATED:20251215T122426Z
LAST-MODIFIED:20251215T122426Z
UID:10000222-1770057000-1770062400@www.teamwinkens.de
SUMMARY:Technik 2
DESCRIPTION:
URL:https://www.teamwinkens.de/termin/technik-2-15/
LOCATION:Bardenberg\, Dorfstraße 1\, Würselen\, Nordrhein-Westfalen\, 52146\, Germany
CATEGORIES:Bardenberg
END:VEVENT
BEGIN:VEVENT
DTSTART;TZID=Europe/Berlin:20260202T190000
DTEND;TZID=Europe/Berlin:20260202T203000
DTSTAMP:20260424T175032
CREATED:20251215T122451Z
LAST-MODIFIED:20251215T122451Z
UID:10000223-1770058800-1770064200@www.teamwinkens.de
SUMMARY:Grundstoff 7
DESCRIPTION:
URL:https://www.teamwinkens.de/termin/grundstoff-7-18/
LOCATION:Aachen\, Franzstraße 5\, Aachen\, Nordrhein-Westfalen\, 52064\, Germany
CATEGORIES:Aachen
END:VEVENT
BEGIN:VEVENT
DTSTART;TZID=Europe/Berlin:20260203T190000
DTEND;TZID=Europe/Berlin:20260203T203000
DTSTAMP:20260424T175032
CREATED:20251215T122521Z
LAST-MODIFIED:20251215T122521Z
UID:10000224-1770145200-1770150600@www.teamwinkens.de
SUMMARY:Grundstoff 8
DESCRIPTION:
URL:https://www.teamwinkens.de/termin/grundstoff-8-16/
LOCATION:Würselen\, Aachenerstr. 9\, Würselen\, Nordrhein-Westfalen\, 52146\, Germany
CATEGORIES:Würselen
END:VEVENT
BEGIN:VEVENT
DTSTART;TZID=Europe/Berlin:20260203T190000
DTEND;TZID=Europe/Berlin:20260203T203000
DTSTAMP:20260424T175032
CREATED:20251215T122557Z
LAST-MODIFIED:20251215T122557Z
UID:10000225-1770145200-1770150600@www.teamwinkens.de
SUMMARY:Grundstoff 2
DESCRIPTION:
URL:https://www.teamwinkens.de/termin/grundstoff-2-15/
LOCATION:Hoengen\, Jülicherstr. 198\, Alsdorf\, Nordrhein-Westfalen\, 52477\, Germany
CATEGORIES:Hoengen
END:VEVENT
BEGIN:VEVENT
DTSTART;TZID=Europe/Berlin:20260204T183000
DTEND;TZID=Europe/Berlin:20260204T200000
DTSTAMP:20260424T175032
CREATED:20251215T122638Z
LAST-MODIFIED:20251215T122638Z
UID:10000226-1770229800-1770235200@www.teamwinkens.de
SUMMARY:Grundstoff 1
DESCRIPTION:
URL:https://www.teamwinkens.de/termin/grundstoff-1-17/
LOCATION:Bardenberg\, Dorfstraße 1\, Würselen\, Nordrhein-Westfalen\, 52146\, Germany
CATEGORIES:Bardenberg
END:VEVENT
BEGIN:VEVENT
DTSTART;TZID=Europe/Berlin:20260204T183000
DTEND;TZID=Europe/Berlin:20260204T200000
DTSTAMP:20260424T175032
CREATED:20251215T122708Z
LAST-MODIFIED:20251215T122708Z
UID:10000227-1770229800-1770235200@www.teamwinkens.de
SUMMARY:Grundstoff 8
DESCRIPTION:
URL:https://www.teamwinkens.de/termin/grundstoff-8-17/
LOCATION:Alsdorf\, Blumenratherstr. 50\, Alsdorf\, Nordrhein-Westfalen\, 52477\, Germany
CATEGORIES:Alsdorf
END:VEVENT
BEGIN:VEVENT
DTSTART;TZID=Europe/Berlin:20260205T190000
DTEND;TZID=Europe/Berlin:20260205T203000
DTSTAMP:20260424T175032
CREATED:20251215T122739Z
LAST-MODIFIED:20251215T122739Z
UID:10000228-1770318000-1770323400@www.teamwinkens.de
SUMMARY:Grundstoff 9
DESCRIPTION:
URL:https://www.teamwinkens.de/termin/grundstoff-9-17/
LOCATION:Würselen\, Aachenerstr. 9\, Würselen\, Nordrhein-Westfalen\, 52146\, Germany
CATEGORIES:Würselen
END:VEVENT
BEGIN:VEVENT
DTSTART;TZID=Europe/Berlin:20260205T190000
DTEND;TZID=Europe/Berlin:20260205T203000
DTSTAMP:20260424T175032
CREATED:20251215T122814Z
LAST-MODIFIED:20251215T122814Z
UID:10000229-1770318000-1770323400@www.teamwinkens.de
SUMMARY:Grundstoff 3
DESCRIPTION:
URL:https://www.teamwinkens.de/termin/grundstoff-3-15/
LOCATION:Hoengen\, Jülicherstr. 198\, Alsdorf\, Nordrhein-Westfalen\, 52477\, Germany
CATEGORIES:Hoengen
END:VEVENT
BEGIN:VEVENT
DTSTART;TZID=Europe/Berlin:20260205T190000
DTEND;TZID=Europe/Berlin:20260205T203000
DTSTAMP:20260424T175032
CREATED:20251215T122850Z
LAST-MODIFIED:20251215T122850Z
UID:10000230-1770318000-1770323400@www.teamwinkens.de
SUMMARY:Grundstoff 8
DESCRIPTION:
URL:https://www.teamwinkens.de/termin/grundstoff-8-18/
LOCATION:Aachen\, Franzstraße 5\, Aachen\, Nordrhein-Westfalen\, 52064\, Germany
CATEGORIES:Aachen
END:VEVENT
BEGIN:VEVENT
DTSTART;TZID=Europe/Berlin:20260209T183000
DTEND;TZID=Europe/Berlin:20260209T200000
DTSTAMP:20260424T175032
CREATED:20251215T122917Z
LAST-MODIFIED:20251215T122917Z
UID:10000231-1770661800-1770667200@www.teamwinkens.de
SUMMARY:Grundstoff 2
DESCRIPTION:
URL:https://www.teamwinkens.de/termin/grundstoff-2-16/
LOCATION:Bardenberg\, Dorfstraße 1\, Würselen\, Nordrhein-Westfalen\, 52146\, Germany
CATEGORIES:Bardenberg
END:VEVENT
BEGIN:VEVENT
DTSTART;TZID=Europe/Berlin:20260209T190000
DTEND;TZID=Europe/Berlin:20260209T203000
DTSTAMP:20260424T175032
CREATED:20251215T122949Z
LAST-MODIFIED:20251215T122949Z
UID:10000232-1770663600-1770669000@www.teamwinkens.de
SUMMARY:Grundstoff 9
DESCRIPTION:
URL:https://www.teamwinkens.de/termin/grundstoff-9-18/
LOCATION:Aachen\, Franzstraße 5\, Aachen\, Nordrhein-Westfalen\, 52064\, Germany
CATEGORIES:Aachen
END:VEVENT
BEGIN:VEVENT
DTSTART;TZID=Europe/Berlin:20260210T190000
DTEND;TZID=Europe/Berlin:20260210T203000
DTSTAMP:20260424T175032
CREATED:20251215T123018Z
LAST-MODIFIED:20251215T123018Z
UID:10000233-1770750000-1770755400@www.teamwinkens.de
SUMMARY:Grundstoff 10
DESCRIPTION:
URL:https://www.teamwinkens.de/termin/grundstoff-10-16/
LOCATION:Würselen\, Aachenerstr. 9\, Würselen\, Nordrhein-Westfalen\, 52146\, Germany
CATEGORIES:Würselen
END:VEVENT
BEGIN:VEVENT
DTSTART;TZID=Europe/Berlin:20260210T190000
DTEND;TZID=Europe/Berlin:20260210T203000
DTSTAMP:20260424T175032
CREATED:20251215T123052Z
LAST-MODIFIED:20251215T123052Z
UID:10000234-1770750000-1770755400@www.teamwinkens.de
SUMMARY:Grundstoff 4
DESCRIPTION:
URL:https://www.teamwinkens.de/termin/grundstoff-4-17/
LOCATION:Hoengen\, Jülicherstr. 198\, Alsdorf\, Nordrhein-Westfalen\, 52477\, Germany
CATEGORIES:Hoengen
END:VEVENT
BEGIN:VEVENT
DTSTART;TZID=Europe/Berlin:20260211T183000
DTEND;TZID=Europe/Berlin:20260211T200000
DTSTAMP:20260424T175032
CREATED:20251215T123122Z
LAST-MODIFIED:20251215T123122Z
UID:10000235-1770834600-1770840000@www.teamwinkens.de
SUMMARY:Grundstoff 3
DESCRIPTION:
URL:https://www.teamwinkens.de/termin/grundstoff-3-16/
LOCATION:Bardenberg\, Dorfstraße 1\, Würselen\, Nordrhein-Westfalen\, 52146\, Germany
CATEGORIES:Bardenberg
END:VEVENT
BEGIN:VEVENT
DTSTART;TZID=Europe/Berlin:20260211T183000
DTEND;TZID=Europe/Berlin:20260211T200000
DTSTAMP:20260424T175032
CREATED:20251215T123153Z
LAST-MODIFIED:20251215T123153Z
UID:10000236-1770834600-1770840000@www.teamwinkens.de
SUMMARY:Grundstoff 9
DESCRIPTION:
URL:https://www.teamwinkens.de/termin/grundstoff-9-19/
LOCATION:Alsdorf\, Blumenratherstr. 50\, Alsdorf\, Nordrhein-Westfalen\, 52477\, Germany
CATEGORIES:Alsdorf
END:VEVENT
BEGIN:VEVENT
DTSTART;TZID=Europe/Berlin:20260212T190000
DTEND;TZID=Europe/Berlin:20260212T203000
DTSTAMP:20260424T175032
CREATED:20251215T123849Z
LAST-MODIFIED:20251215T123849Z
UID:10000239-1770922800-1770928200@www.teamwinkens.de
SUMMARY:Grundstoff 11
DESCRIPTION:
URL:https://www.teamwinkens.de/termin/grundstoff-11-15/
LOCATION:Würselen\, Aachenerstr. 9\, Würselen\, Nordrhein-Westfalen\, 52146\, Germany
CATEGORIES:Würselen
END:VEVENT
BEGIN:VEVENT
DTSTART;TZID=Europe/Berlin:20260212T190000
DTEND;TZID=Europe/Berlin:20260212T203000
DTSTAMP:20260424T175032
CREATED:20251215T123934Z
LAST-MODIFIED:20251215T123934Z
UID:10000240-1770922800-1770928200@www.teamwinkens.de
SUMMARY:Grundstoff 5
DESCRIPTION:
URL:https://www.teamwinkens.de/termin/grundstoff-5-16/
LOCATION:Hoengen\, Jülicherstr. 198\, Alsdorf\, Nordrhein-Westfalen\, 52477\, Germany
CATEGORIES:Hoengen
END:VEVENT
BEGIN:VEVENT
DTSTART;TZID=Europe/Berlin:20260212T190000
DTEND;TZID=Europe/Berlin:20260212T203000
DTSTAMP:20260424T175032
CREATED:20251215T124018Z
LAST-MODIFIED:20251215T124018Z
UID:10000241-1770922800-1770928200@www.teamwinkens.de
SUMMARY:Grundstoff 10
DESCRIPTION:
URL:https://www.teamwinkens.de/termin/grundstoff-10-18/
LOCATION:Aachen\, Franzstraße 5\, Aachen\, Nordrhein-Westfalen\, 52064\, Germany
CATEGORIES:Aachen
END:VEVENT
BEGIN:VEVENT
DTSTART;TZID=Europe/Berlin:20260217T190000
DTEND;TZID=Europe/Berlin:20260217T203000
DTSTAMP:20260424T175032
CREATED:20251215T124150Z
LAST-MODIFIED:20251215T124150Z
UID:10000242-1771354800-1771360200@www.teamwinkens.de
SUMMARY:Grundstoff 12
DESCRIPTION:
URL:https://www.teamwinkens.de/termin/grundstoff-12-15/
LOCATION:Würselen\, Aachenerstr. 9\, Würselen\, Nordrhein-Westfalen\, 52146\, Germany
CATEGORIES:Würselen
END:VEVENT
BEGIN:VEVENT
DTSTART;TZID=Europe/Berlin:20260217T190000
DTEND;TZID=Europe/Berlin:20260217T203000
DTSTAMP:20260424T175032
CREATED:20251215T124230Z
LAST-MODIFIED:20251215T124230Z
UID:10000243-1771354800-1771360200@www.teamwinkens.de
SUMMARY:Grundstoff 6
DESCRIPTION:
URL:https://www.teamwinkens.de/termin/grundstoff-6-19/
LOCATION:Hoengen\, Jülicherstr. 198\, Alsdorf\, Nordrhein-Westfalen\, 52477\, Germany
CATEGORIES:Hoengen
END:VEVENT
BEGIN:VEVENT
DTSTART;TZID=Europe/Berlin:20260218T183000
DTEND;TZID=Europe/Berlin:20260218T200000
DTSTAMP:20260424T175032
CREATED:20251215T124310Z
LAST-MODIFIED:20251215T125323Z
UID:10000244-1771439400-1771444800@www.teamwinkens.de
SUMMARY:Grundstoff 4
DESCRIPTION:
URL:https://www.teamwinkens.de/termin/grundstoff-4-18/
LOCATION:Bardenberg\, Dorfstraße 1\, Würselen\, Nordrhein-Westfalen\, 52146\, Germany
CATEGORIES:Bardenberg
END:VEVENT
BEGIN:VEVENT
DTSTART;TZID=Europe/Berlin:20260218T183000
DTEND;TZID=Europe/Berlin:20260218T200000
DTSTAMP:20260424T175032
CREATED:20251215T125516Z
LAST-MODIFIED:20251215T125516Z
UID:10000245-1771439400-1771444800@www.teamwinkens.de
SUMMARY:Grundstoff 10
DESCRIPTION:
URL:https://www.teamwinkens.de/termin/grundstoff-10-19/
LOCATION:Alsdorf\, Blumenratherstr. 50\, Alsdorf\, Nordrhein-Westfalen\, 52477\, Germany
CATEGORIES:Alsdorf
END:VEVENT
BEGIN:VEVENT
DTSTART;TZID=Europe/Berlin:20260219T190000
DTEND;TZID=Europe/Berlin:20260219T203000
DTSTAMP:20260424T175032
CREATED:20251215T125628Z
LAST-MODIFIED:20251215T125628Z
UID:10000246-1771527600-1771533000@www.teamwinkens.de
SUMMARY:Technik 1
DESCRIPTION:
URL:https://www.teamwinkens.de/termin/technik-1-17/
LOCATION:Würselen\, Aachenerstr. 9\, Würselen\, Nordrhein-Westfalen\, 52146\, Germany
CATEGORIES:Würselen
END:VEVENT
BEGIN:VEVENT
DTSTART;TZID=Europe/Berlin:20260219T190000
DTEND;TZID=Europe/Berlin:20260219T203000
DTSTAMP:20260424T175032
CREATED:20251215T125714Z
LAST-MODIFIED:20251215T125714Z
UID:10000247-1771527600-1771533000@www.teamwinkens.de
SUMMARY:Grundstoff 7
DESCRIPTION:
URL:https://www.teamwinkens.de/termin/grundstoff-7-19/
LOCATION:Hoengen\, Jülicherstr. 198\, Alsdorf\, Nordrhein-Westfalen\, 52477\, Germany
CATEGORIES:Hoengen
END:VEVENT
BEGIN:VEVENT
DTSTART;TZID=Europe/Berlin:20260219T190000
DTEND;TZID=Europe/Berlin:20260219T203000
DTSTAMP:20260424T175032
CREATED:20251215T125754Z
LAST-MODIFIED:20251215T125754Z
UID:10000248-1771527600-1771533000@www.teamwinkens.de
SUMMARY:Grundstoff 11
DESCRIPTION:
URL:https://www.teamwinkens.de/termin/grundstoff-11-16/
LOCATION:Aachen\, Franzstraße 5\, Aachen\, Nordrhein-Westfalen\, 52064\, Germany
CATEGORIES:Aachen
END:VEVENT
BEGIN:VEVENT
DTSTART;TZID=Europe/Berlin:20260223T183000
DTEND;TZID=Europe/Berlin:20260223T200000
DTSTAMP:20260424T175032
CREATED:20251215T125933Z
LAST-MODIFIED:20251215T125933Z
UID:10000249-1771871400-1771876800@www.teamwinkens.de
SUMMARY:Grundstoff 5
DESCRIPTION:
URL:https://www.teamwinkens.de/termin/grundstoff-5-17/
LOCATION:Bardenberg\, Dorfstraße 1\, Würselen\, Nordrhein-Westfalen\, 52146\, Germany
CATEGORIES:Bardenberg
END:VEVENT
BEGIN:VEVENT
DTSTART;TZID=Europe/Berlin:20260223T190000
DTEND;TZID=Europe/Berlin:20260223T203000
DTSTAMP:20260424T175032
CREATED:20251215T130012Z
LAST-MODIFIED:20251215T130012Z
UID:10000250-1771873200-1771878600@www.teamwinkens.de
SUMMARY:Grundstoff 12
DESCRIPTION:
URL:https://www.teamwinkens.de/termin/grundstoff-12-16/
LOCATION:Aachen\, Franzstraße 5\, Aachen\, Nordrhein-Westfalen\, 52064\, Germany
CATEGORIES:Aachen
END:VEVENT
BEGIN:VEVENT
DTSTART;TZID=Europe/Berlin:20260224T190000
DTEND;TZID=Europe/Berlin:20260224T203000
DTSTAMP:20260424T175032
CREATED:20251215T130101Z
LAST-MODIFIED:20251215T130101Z
UID:10000251-1771959600-1771965000@www.teamwinkens.de
SUMMARY:Technik 2
DESCRIPTION:
URL:https://www.teamwinkens.de/termin/technik-2-16/
LOCATION:Würselen\, Aachenerstr. 9\, Würselen\, Nordrhein-Westfalen\, 52146\, Germany
CATEGORIES:Würselen
END:VEVENT
BEGIN:VEVENT
DTSTART;TZID=Europe/Berlin:20260224T190000
DTEND;TZID=Europe/Berlin:20260224T203000
DTSTAMP:20260424T175032
CREATED:20251215T130155Z
LAST-MODIFIED:20251215T130155Z
UID:10000252-1771959600-1771965000@www.teamwinkens.de
SUMMARY:Grundstoff 8
DESCRIPTION:
URL:https://www.teamwinkens.de/termin/grundstoff-8-19/
LOCATION:Hoengen\, Jülicherstr. 198\, Alsdorf\, Nordrhein-Westfalen\, 52477\, Germany
CATEGORIES:Hoengen
END:VEVENT
BEGIN:VEVENT
DTSTART;TZID=Europe/Berlin:20260225T183000
DTEND;TZID=Europe/Berlin:20260225T200000
DTSTAMP:20260424T175032
CREATED:20251215T130231Z
LAST-MODIFIED:20251215T130231Z
UID:10000253-1772044200-1772049600@www.teamwinkens.de
SUMMARY:Grundstoff 6
DESCRIPTION:
URL:https://www.teamwinkens.de/termin/grundstoff-6-20/
LOCATION:Bardenberg\, Dorfstraße 1\, Würselen\, Nordrhein-Westfalen\, 52146\, Germany
CATEGORIES:Bardenberg
END:VEVENT
END:VCALENDAR